BEGIN:VCALENDAR
VERSION:2.0
PRODID:DPCALENDAR
CALSCALE:GREGORIAN
X-WR-TIMEZONE:UTC
BEGIN:VEVENT
DTSTART;TZID=UTC:20251119T150000
DTEND;TZID=UTC:20251119T200000
UID:7673C1C0-E4E9-45E2-8A0B-9678BFF79852
SUMMARY:OV Abend
CREATED:20251117T092013Z
DTSTAMP:20251117T092013Z
URL:https://dk0erf.de/index.php/kalender/ov-abend
LAST-MODIFIED:20251117T092720Z
SEQUENCE:427
X-ACCESS:1
X-HITS:17
X-COLOR:3366cc
X-SHOW-END-TIME:1
END:VEVENT
BEGIN:VEVENT
DTSTART;TZID=UTC:20251126T150000
DTEND;TZID=UTC:20251126T200000
UID:55783BB8-57B2-40FA-BAAB-24B326A1F0AB
SUMMARY:OV Abend
CREATED:20251117T092013Z
DTSTAMP:20251117T092013Z
URL:https://dk0erf.de/index.php/kalender/ov-abend-2
LAST-MODIFIED:20251117T092851Z
SEQUENCE:518
X-ACCESS:1
X-HITS:10
X-COLOR:3366cc
X-SHOW-END-TIME:1
END:VEVENT
BEGIN:VEVENT
DTSTART;TZID=UTC:20251203T160000
DTEND;TZID=UTC:20251203T200000
UID:F1BBA2E9-4321-40A4-9A0A-5478F1F2A05C
SUMMARY:Versammlung 2025
CREATED:20251117T090935Z
DTSTAMP:20251117T090935Z
URL:/blog/jahresversammlung-2025
LAST-MODIFIED:20251117T092525Z
SEQUENCE:950
X-ACCESS:1
X-HITS:14
X-COLOR:ff0000
X-SHOW-END-TIME:0
END:VEVENT
BEGIN:VEVENT
DTSTART;TZID=UTC:20251210T150000
DTEND;TZID=UTC:20251210T200000
UID:7CBF8590-DC4D-45C8-84F4-5E7B626359C0
SUMMARY:OV Abend
CREATED:20251117T092013Z
DTSTAMP:20251117T092013Z
URL:https://dk0erf.de/index.php/kalender/ov-abend-3
LAST-MODIFIED:20251117T092923Z
SEQUENCE:550
X-ACCESS:1
X-HITS:7
X-COLOR:3366cc
X-SHOW-END-TIME:1
END:VEVENT
BEGIN:VEVENT
DTSTART;TZID=UTC:20251217T150000
DTEND;TZID=UTC:20251217T200000
UID:92042901-08A4-4BB1-8B29-1B689394BD07
SUMMARY:OV Abend
CREATED:20251117T092013Z
DTSTAMP:20251117T092013Z
URL:https://dk0erf.de/index.php/kalender/ov-abend-4
LAST-MODIFIED:20251117T092951Z
SEQUENCE:578
X-ACCESS:1
X-HITS:7
X-COLOR:3366cc
X-SHOW-END-TIME:1
END:VEVENT
BEGIN:VEVENT
DTSTART;TZID=UTC:20251231T150000
DTEND;TZID=UTC:20251231T200000
UID:5486A1CD-5654-48CD-9878-0AD846C5B03F
SUMMARY:OV Abend?
CREATED:20251117T092013Z
DTSTAMP:20251117T092013Z
URL:https://dk0erf.de/index.php/kalender/ov-abend-6
LAST-MODIFIED:20251117T093138Z
SEQUENCE:685
X-ACCESS:1
X-HITS:9
X-COLOR:3366cc
X-SHOW-END-TIME:1
END:VEVENT
BEGIN:VEVENT
DTSTART;TZID=UTC:20260107T150000
DTEND;TZID=UTC:20260107T200000
UID:6A2BE121-3C8C-46FA-B3D3-F2AD8CCA4789
SUMMARY:OV Abend
CREATED:20251117T092013Z
DTSTAMP:20251117T092013Z
URL:https://dk0erf.de/index.php/kalender/ov-abend-7
LAST-MODIFIED:20251117T093225Z
SEQUENCE:732
X-ACCESS:1
X-HITS:13
X-COLOR:3366cc
X-SHOW-END-TIME:1
END:VEVENT
BEGIN:VEVENT
DTSTART;TZID=UTC:20260114T080000
DTEND;TZID=UTC:20260114T090000
UID:F582361B-27B6-4AC8-8036-7E318C2DD25F
SUMMARY:TEST
CREATED:20260113T145606Z
DTSTAMP:20260113T145606Z
URL:https://dk0erf.de/index.php/kalender/test
LAST-MODIFIED:20260113T145606Z
SEQUENCE:0
X-ACCESS:1
X-HITS:5
X-COLOR:3366cc
X-SHOW-END-TIME:1
END:VEVENT
BEGIN:VEVENT
DTSTART;TZID=UTC:20260114T150000
DTEND;TZID=UTC:20260114T200000
UID:D1CB2E3B-E890-4105-9780-104E4351DD04
SUMMARY:OV Abend
CREATED:20251117T092013Z
DTSTAMP:20251117T092013Z
URL:https://dk0erf.de/index.php/kalender/ov-abend-8
LAST-MODIFIED:20251117T093233Z
SEQUENCE:740
X-ACCESS:1
X-HITS:6
X-COLOR:3366cc
X-SHOW-END-TIME:1
END:VEVENT
BEGIN:VEVENT
DTSTART;TZID=UTC:20260121T150000
DTEND;TZID=UTC:20260121T200000
UID:DBBA5436-426F-4B11-913B-9EB1CFC0B333
SUMMARY:OV Abend
CREATED:20251117T092013Z
DTSTAMP:20251117T092013Z
URL:https://dk0erf.de/index.php/kalender/ov-abend-9
LAST-MODIFIED:20251117T093240Z
SEQUENCE:747
X-ACCESS:1
X-HITS:6
X-COLOR:3366cc
X-SHOW-END-TIME:1
END:VEVENT
BEGIN:VEVENT
DTSTART;TZID=UTC:20260128T150000
DTEND;TZID=UTC:20260128T200000
UID:8A2D4891-94D8-4483-B29B-93D5F7269ABD
SUMMARY:OV Abend
CREATED:20251117T092013Z
DTSTAMP:20251117T092013Z
URL:https://dk0erf.de/index.php/kalender/ov-abend-10
LAST-MODIFIED:20251117T093246Z
SEQUENCE:753
X-ACCESS:1
X-HITS:4
X-COLOR:3366cc
X-SHOW-END-TIME:1
END:VEVENT
BEGIN:VEVENT
DTSTART;TZID=UTC:20260204T150000
DTEND;TZID=UTC:20260204T200000
UID:E97AA14B-1319-4A7A-8E78-FF2640D0218F
SUMMARY:OV Abend
CREATED:20251117T092013Z
DTSTAMP:20251117T092013Z
URL:https://dk0erf.de/index.php/kalender/ov-abend-11
LAST-MODIFIED:20251117T093255Z
SEQUENCE:762
X-ACCESS:1
X-HITS:4
X-COLOR:3366cc
X-SHOW-END-TIME:1
END:VEVENT
BEGIN:VEVENT
DTSTART;TZID=UTC:20260207T090000
DTEND;TZID=UTC:20260207T110000
UID:6EE0C8C1-623E-45B7-BBB2-ACD09E93FD6E
SUMMARY:BBT 23cm
CREATED:20260113T204821Z
DTSTAMP:20260113T204821Z
URL:https://dk0erf.de/index.php/kalender/bbt-23cm
LAST-MODIFIED:20260113T204821Z
SEQUENCE:0
X-ACCESS:1
X-HITS:5
X-COLOR:3366cc
X-SHOW-END-TIME:1
END:VEVENT
BEGIN:VEVENT
DTSTART;TZID=UTC:20260207T113000
DTEND;TZID=UTC:20260207T140000
UID:B65A034B-09D8-458C-BA0C-02E010F08922
SUMMARY:BBT 13cm
CREATED:20260113T204841Z
DTSTAMP:20260113T204841Z
URL:https://dk0erf.de/index.php/kalender/bbt-13cm
LAST-MODIFIED:20260113T204841Z
SEQUENCE:0
X-ACCESS:1
X-HITS:3
X-COLOR:3366cc
X-SHOW-END-TIME:1
END:VEVENT
BEGIN:VEVENT
DTSTART;TZID=UTC:20260311T150000
DTEND;TZID=UTC:20260311T190000
UID:B2C88F21-BA0F-4FD5-9CC7-03A6364B594C
SUMMARY:OV ABend
CREATED:20260322T190321Z
DTSTAMP:20260322T190321Z
URL:https://dk0erf.de/index.php/kalender/ov-abend-12
LAST-MODIFIED:20260322T190321Z
SEQUENCE:0
X-ACCESS:1
X-HITS:0
X-COLOR:3366cc
X-SHOW-END-TIME:0
END:VEVENT
BEGIN:VEVENT
DTSTART;TZID=UTC:20260318T150000
DTEND;TZID=UTC:20260318T190000
UID:AB86AFA2-A934-4813-BE1D-7F3DDA33EF75
SUMMARY:OV Abend
CREATED:20260322T190423Z
DTSTAMP:20260322T190423Z
URL:https://dk0erf.de/index.php/kalender/ov-abend-5
LAST-MODIFIED:20260322T190423Z
SEQUENCE:0
X-ACCESS:1
X-HITS:0
X-COLOR:3366cc
X-SHOW-END-TIME:1
END:VEVENT
BEGIN:VEVENT
DTSTART;TZID=UTC:20260325T150000
DTEND;TZID=UTC:20260325T190000
UID:AB3E19A5-8234-42D6-A69E-48BC3EC83019
SUMMARY:OV Abend
CREATED:20260322T190433Z
DTSTAMP:20260322T190433Z
URL:https://dk0erf.de/index.php/kalender/ov-abend-13
LAST-MODIFIED:20260322T190433Z
SEQUENCE:0
X-ACCESS:1
X-HITS:1
X-COLOR:3366cc
X-SHOW-END-TIME:1
END:VEVENT
BEGIN:VEVENT
DTSTART;TZID=UTC:20260401T150000
DTEND;TZID=UTC:20260401T190000
UID:4344DB39-6B56-4EE7-8FEC-B285A834FC2D
SUMMARY:OV Abend
CREATED:20260322T190445Z
DTSTAMP:20260322T190445Z
URL:https://dk0erf.de/index.php/kalender/ov-abend-14
LAST-MODIFIED:20260322T190445Z
SEQUENCE:0
X-ACCESS:1
X-HITS:2
X-COLOR:3366cc
X-SHOW-END-TIME:1
END:VEVENT
BEGIN:VEVENT
DTSTART;TZID=UTC:20260408T080000
DTEND;TZID=UTC:20260408T150000
UID:D04E67F6-A9D0-43DD-A50C-0130E6EEF2D6
SUMMARY:OV Abend
CREATED:20260322T190749Z
DTSTAMP:20260322T190749Z
URL:https://dk0erf.de/index.php/kalender/ov-abend-15
LAST-MODIFIED:20260322T190749Z
SEQUENCE:0
X-ACCESS:1
X-HITS:2
X-COLOR:3366cc
X-SHOW-END-TIME:1
END:VEVENT
BEGIN:VEVENT
DTSTART;TZID=UTC:20260411T080000
DTEND;TZID=UTC:20260411T180000
UID:5108FC4B-5019-423B-B2C3-02B3B8E5BCF0
SUMMARY:Frühjahrsputz OPTION A
CREATED:20260322T190840Z
DTSTAMP:20260322T190840Z
URL:https://dk0erf.de/index.php/kalender/fruehjahrsputz-option-a
LAST-MODIFIED:20260322T190840Z
SEQUENCE:0
X-ACCESS:1
X-HITS:2
X-COLOR:3366cc
X-SHOW-END-TIME:1
END:VEVENT
BEGIN:VEVENT
DTSTART;TZID=UTC:20260425T090000
DTEND;TZID=UTC:20260425T160000
UID:02BD3797-F679-4DC4-93E2-14BF4B6FA344
SUMMARY:Funktag Kassel
CREATED:20260113T204506Z
DTSTAMP:20260113T204506Z
URL:https://dk0erf.de/index.php/kalender/funktag-kassel
LAST-MODIFIED:20260113T204506Z
SEQUENCE:0
X-ACCESS:1
X-HITS:2
X-COLOR:3366cc
X-SHOW-END-TIME:1
END:VEVENT
BEGIN:VEVENT
DTSTART;TZID=UTC:20260516T080000
DTEND;TZID=UTC:20260516T180000
UID:5812437B-11B3-405E-AC4D-5757164DA94F
SUMMARY:Frühjahrsputz OPTION B
CREATED:20260322T190543Z
DTSTAMP:20260322T190543Z
URL:https://dk0erf.de/index.php/kalender/fruehjahrsputz-bratwurst
LAST-MODIFIED:20260322T190804Z
SEQUENCE:141
X-ACCESS:1
X-HITS:8
X-COLOR:3366cc
X-SHOW-END-TIME:1
END:VEVENT
BEGIN:VEVENT
DTSTART;VALUE=DATE:20260803
DTEND;VALUE=DATE:20260815
UID:E0DA0E53-0C24-496A-875D-A453690D978C
SUMMARY:Aland 2026
CREATED:20251117T092124Z
DTSTAMP:20251117T092124Z
URL:https://dk0erf.de/index.php/kalender/aland-2026
LAST-MODIFIED:20251117T092600Z
SEQUENCE:276
X-ACCESS:1
X-HITS:8
X-COLOR:1fa32c
X-SHOW-END-TIME:1
END:VEVENT
END:VCALENDAR